BEGIN:VCALENDAR
VERSION:2.0
PRODID:-//eventon.com NONSGML v1.0//EN
CALSCALE:GREGORIAN
METHOD:PUBLISH
BEGIN:VEVENT
UID:69e61eeab12b4
DTSTAMP:20260420T124114Z
DTSTART:20260725
DTEND:20260726
LOCATION:
SUMMARY:Worms-Abenheim
DESCRIPTION:Worms-Abenheim\nhttps://www.turnierservice-holzer.de/events/wor
 ms-abenheim-7/
URL:https://www.turnierservice-holzer.de/events/worms-abenheim-7/
END:VEVENT
END:VCALENDAR