BEGIN:VCALENDAR
VERSION:2.0
PRODID:-//eventon.com NONSGML v1.0//EN
CALSCALE:GREGORIAN
METHOD:PUBLISH
BEGIN:VEVENT
UID:69e6356a139da
DTSTAMP:20260420T141714Z
DTSTART:20260404
DTEND:20260405
LOCATION:
SUMMARY:Zweibrücken
DESCRIPTION:Zweibrücken\nhttps://www.turnierservice-holzer.de/events/zweib
 ruecken-9/
URL:https://www.turnierservice-holzer.de/events/zweibruecken-9/
END:VEVENT
END:VCALENDAR