BEGIN:VCALENDAR
VERSION:2.0
PRODID:-//eventon.com NONSGML v1.0//EN
CALSCALE:GREGORIAN
METHOD:PUBLISH
BEGIN:VEVENT
UID:69e61eee02598
DTSTAMP:20260420T124118Z
DTSTART:20261003
DTEND:20261004
LOCATION:
SUMMARY:LUX Noertzange
DESCRIPTION:LUX Noertzange\nhttps://www.turnierservice-holzer.de/events/lux
 -noertzange-2/
URL:https://www.turnierservice-holzer.de/events/lux-noertzange-2/
END:VEVENT
END:VCALENDAR