BEGIN:VCALENDAR
VERSION:2.0
PRODID:-//eventon.com NONSGML v1.0//EN
CALSCALE:GREGORIAN
METHOD:PUBLISH
BEGIN:VEVENT
UID:69e634dd37033
DTSTAMP:20260420T141453Z
DTSTART:20261002
DTEND:20261003
LOCATION:
SUMMARY:Homburg-Schwarzenacker / Halle
DESCRIPTION:Homburg-Schwarzenacker / Halle\nhttps://www.turnierservice-holz
 er.de/events/homburg-schwarzenacker-halle-6/
URL:https://www.turnierservice-holzer.de/events/homburg-schwarzenacker-halle-6/
END:VEVENT
END:VCALENDAR