BEGIN:VCALENDAR
VERSION:2.0
PRODID:-//eventon.com NONSGML v1.0//EN
CALSCALE:GREGORIAN
METHOD:PUBLISH
BEGIN:VEVENT
UID:69e61edf1521c
DTSTAMP:20260420T124103Z
DTSTART:20260328
DTEND:20260329
LOCATION:
SUMMARY:Standenbühl / Halle im Pferdezentrum
DESCRIPTION:Standenbühl / Halle im Pferdezentrum\nhttps://www.turnierservi
 ce-holzer.de/events/standenbuehl-halle-im-pferdezentrum/
URL:https://www.turnierservice-holzer.de/events/standenbuehl-halle-im-pferdezentrum/
END:VEVENT
END:VCALENDAR