BEGIN:VCALENDAR
VERSION:2.0
PRODID:-//eventon.com NONSGML v1.0//EN
CALSCALE:GREGORIAN
METHOD:PUBLISH
BEGIN:VEVENT
UID:69e63385b3f41
DTSTAMP:20260420T140909Z
DTSTART:20260918
DTEND:20260919
LOCATION:
SUMMARY:Homburg-Reiskirchen
DESCRIPTION:Homburg-Reiskirchen\nhttps://www.turnierservice-holzer.de/event
 s/homburg-reiskirchen-8/
URL:https://www.turnierservice-holzer.de/events/homburg-reiskirchen-8/
END:VEVENT
END:VCALENDAR