BEGIN:VCALENDAR
VERSION:2.0
PRODID:-//eventon.com NONSGML v1.0//EN
CALSCALE:GREGORIAN
METHOD:PUBLISH
BEGIN:VEVENT
UID:69e61fdcce0c6
DTSTAMP:20260420T124516Z
DTSTART:20260808
DTEND:20260809
LOCATION:
SUMMARY:Zweibrücken-Landgestüt
DESCRIPTION:RFV Zweibrücken und Pferdezuchtverband Rheinland-Pfalz-Saar\nh
 ttps://www.turnierservice-holzer.de/events/zweibruecken-landgestuet-11/
URL:https://www.turnierservice-holzer.de/events/zweibruecken-landgestuet-11/
END:VEVENT
END:VCALENDAR