BEGIN:VCALENDAR
VERSION:2.0
PRODID:-//eventon.com NONSGML v1.0//EN
CALSCALE:GREGORIAN
METHOD:PUBLISH
BEGIN:VEVENT
UID:69e633403bc70
DTSTAMP:20260420T140800Z
DTSTART:20260424
DTEND:20260425
LOCATION:
SUMMARY:Andernach
DESCRIPTION:Andernach\nhttps://www.turnierservice-holzer.de/events/andernac
 h-4/
URL:https://www.turnierservice-holzer.de/events/andernach-4/
END:VEVENT
END:VCALENDAR