BEGIN:VCALENDAR
VERSION:2.0
PRODID:-//eventon.com NONSGML v1.0//EN
CALSCALE:GREGORIAN
METHOD:PUBLISH
BEGIN:VEVENT
UID:69e61ee354175
DTSTAMP:20260420T124107Z
DTSTART:20260808
DTEND:20260809
LOCATION:
SUMMARY:Katzweiler
DESCRIPTION:Katzweiler\nhttps://www.turnierservice-holzer.de/events/katzwei
 ler-7/
URL:https://www.turnierservice-holzer.de/events/katzweiler-7/
END:VEVENT
END:VCALENDAR