BEGIN:VCALENDAR
VERSION:2.0
PRODID:-//eventon.com NONSGML v1.0//EN
CALSCALE:GREGORIAN
METHOD:PUBLISH
BEGIN:VEVENT
UID:69e61fbaa8212
DTSTAMP:20260420T124442Z
DTSTART:20260509
DTEND:20260510
LOCATION:
SUMMARY:Neuhofen
DESCRIPTION:Neuhofen\nhttps://www.turnierservice-holzer.de/events/neuhofen-
 7/
URL:https://www.turnierservice-holzer.de/events/neuhofen-7/
END:VEVENT
END:VCALENDAR