BEGIN:VCALENDAR
VERSION:2.0
PRODID:-//eventon.com NONSGML v1.0//EN
CALSCALE:GREGORIAN
METHOD:PUBLISH
BEGIN:VEVENT
UID:69e61fb0e35c4
DTSTAMP:20260420T124432Z
DTSTART:20261010
DTEND:20261011
LOCATION:
SUMMARY:Neuhofen / Halle
DESCRIPTION:Neuhofen / Halle\nhttps://www.turnierservice-holzer.de/events/n
 euhofen-halle-5/
URL:https://www.turnierservice-holzer.de/events/neuhofen-halle-5/
END:VEVENT
END:VCALENDAR