BEGIN:VCALENDAR
VERSION:2.0
PRODID:-//eventon.com NONSGML v1.0//EN
CALSCALE:GREGORIAN
METHOD:PUBLISH
BEGIN:VEVENT
UID:69e634dd3704a
DTSTAMP:20260420T141453Z
DTSTART:20260314
DTEND:20260315
LOCATION:
SUMMARY:TorisOnline Schulung\,  Bad Kreuznach
DESCRIPTION:TorisOnline Schulung\,  Bad Kreuznach\nhttps://www.turnierservi
 ce-holzer.de/events/torisonline-schulung-bad-kreuznach/
URL:https://www.turnierservice-holzer.de/events/torisonline-schulung-bad-kreuznach/
END:VEVENT
END:VCALENDAR