BEGIN:VCALENDAR
VERSION:2.0
PRODID:-//eventon.com NONSGML v1.0//EN
CALSCALE:GREGORIAN
METHOD:PUBLISH
BEGIN:VEVENT
UID:69e61f3486d09
DTSTAMP:20260420T124228Z
DTSTART:20260130
DTEND:20260131
LOCATION:
SUMMARY:TorisOnline - Treffen
DESCRIPTION:TorisOnline - Treffen\nhttps://www.turnierservice-holzer.de/eve
 nts/torisonline-treffen/
URL:https://www.turnierservice-holzer.de/events/torisonline-treffen/
END:VEVENT
END:VCALENDAR