BEGIN:VCALENDAR
VERSION:2.0
PRODID:-//eventon.com NONSGML v1.0//EN
CALSCALE:GREGORIAN
METHOD:PUBLISH
BEGIN:VEVENT
UID:69e633a198f82
DTSTAMP:20260420T140937Z
DTSTART:20260116
DTEND:20260117
LOCATION:
SUMMARY:TorisOnline Schulung\,  Vechta
DESCRIPTION:TorisOnline Schulung\,  Vechta\nhttps://www.turnierservice-holz
 er.de/events/torisonline-schulung-vechta/
URL:https://www.turnierservice-holzer.de/events/torisonline-schulung-vechta/
END:VEVENT
END:VCALENDAR