BEGIN:VCALENDAR
VERSION:2.0
PRODID:-//eventon.com NONSGML v1.0//EN
CALSCALE:GREGORIAN
METHOD:PUBLISH
BEGIN:VEVENT
UID:69e63548a9853
DTSTAMP:20260420T141640Z
DTSTART:20260627
DTEND:20260628
LOCATION:
SUMMARY:Geislingen an der Steige
DESCRIPTION:Geislingen an der Steige\nhttps://www.turnierservice-holzer.de/
 events/geislingen-an-der-steige-2/
URL:https://www.turnierservice-holzer.de/events/geislingen-an-der-steige-2/
END:VEVENT
END:VCALENDAR