BEGIN:VCALENDAR
VERSION:2.0
PRODID:-//eventon.com NONSGML v1.0//EN
CALSCALE:GREGORIAN
METHOD:PUBLISH
BEGIN:VEVENT
UID:69e6351be2d97
DTSTAMP:20260420T141555Z
DTSTART:20260821
DTEND:20260822
LOCATION:
SUMMARY:Käshofen / Gestüt Etzenbacher Mühle
DESCRIPTION:Käshofen / Gestüt Etzenbacher Mühle\nhttps://www.turnierserv
 ice-holzer.de/events/kaeshofen-gestuet-etzenbacher-muehle-3/
URL:https://www.turnierservice-holzer.de/events/kaeshofen-gestuet-etzenbacher-muehle-3/
END:VEVENT
END:VCALENDAR