BEGIN:VCALENDAR
VERSION:2.0
PRODID:-//eventon.com NONSGML v1.0//EN
CALSCALE:GREGORIAN
METHOD:PUBLISH
BEGIN:VEVENT
UID:69e634b614752
DTSTAMP:20260420T141414Z
DTSTART:20260529
DTEND:20260530
LOCATION:
SUMMARY:Rodenbach / Halle - DSG Bliesgau
DESCRIPTION:Rodenbach / Halle - DSG Bliesgau\nhttps://www.turnierservice-ho
 lzer.de/events/rodenbach-halle-dsg-bliesgau/
URL:https://www.turnierservice-holzer.de/events/rodenbach-halle-dsg-bliesgau/
END:VEVENT
END:VCALENDAR