BEGIN:VCALENDAR
VERSION:2.0
PRODID:-//eventon.com NONSGML v1.0//EN
CALSCALE:GREGORIAN
METHOD:PUBLISH
BEGIN:VEVENT
UID:69e61f6c3d8c8
DTSTAMP:20260420T124324Z
DTSTART:20260612
DTEND:20260613
LOCATION:
SUMMARY:Frankenthal - Hofgut Petersau
DESCRIPTION:Frankenthal - Hofgut Petersau\nhttps://www.turnierservice-holze
 r.de/events/frankenthal-hofgut-petersau-4/
URL:https://www.turnierservice-holzer.de/events/frankenthal-hofgut-petersau-4/
END:VEVENT
END:VCALENDAR