BEGIN:VCALENDAR
VERSION:2.0
PRODID:-//eventon.com NONSGML v1.0//EN
CALSCALE:GREGORIAN
METHOD:PUBLISH
BEGIN:VEVENT
UID:69e61f8c5790f
DTSTAMP:20260420T124356Z
DTSTART:20260911
DTEND:20260912
LOCATION:
SUMMARY:Alsenborn
DESCRIPTION:Alsenborn\nhttps://www.turnierservice-holzer.de/events/alsenbor
 n-8/
URL:https://www.turnierservice-holzer.de/events/alsenborn-8/
END:VEVENT
END:VCALENDAR