BEGIN:VCALENDAR
VERSION:2.0
PRODID:-//eventon.com NONSGML v1.0//EN
CALSCALE:GREGORIAN
METHOD:PUBLISH
BEGIN:VEVENT
UID:69e6339aa8948
DTSTAMP:20260420T140930Z
DTSTART:20260530
DTEND:20260531
LOCATION:
SUMMARY:Billigheim
DESCRIPTION:Billigheim\nhttps://www.turnierservice-holzer.de/events/billigh
 eim-14/
URL:https://www.turnierservice-holzer.de/events/billigheim-14/
END:VEVENT
END:VCALENDAR