BEGIN:VCALENDAR
VERSION:2.0
PRODID:-//eventon.com NONSGML v1.0//EN
CALSCALE:GREGORIAN
METHOD:PUBLISH
BEGIN:VEVENT
UID:69e61fe66ca8a
DTSTAMP:20260420T124526Z
DTSTART:20260822
DTEND:20260823
LOCATION:
SUMMARY:Mayen - Geisbüschhof
DESCRIPTION:Mayen - Geisbüschhof\nhttps://www.turnierservice-holzer.de/eve
 nts/mayen-geisbueschhof-13/
URL:https://www.turnierservice-holzer.de/events/mayen-geisbueschhof-13/
END:VEVENT
END:VCALENDAR