BEGIN:VCALENDAR
VERSION:2.0
PRODID:-//eventon.com NONSGML v1.0//EN
CALSCALE:GREGORIAN
METHOD:PUBLISH
BEGIN:VEVENT
UID:69e61f2766f4a
DTSTAMP:20260420T124215Z
DTSTART:20260711
DTEND:20260712
LOCATION:
SUMMARY:Mayen-Geisbüschhof mit Landesmeisterschaften Rheinland-Pfalz Vielseitigkeit
DESCRIPTION:Mayen-Geisbüschhof mit Landesmeisterschaften Rheinland-Pfalz V
 ielseitigkeit\nhttps://www.turnierservice-holzer.de/events/kaisersesch-maye
 n-geisbueschhof-mit-landesmeisterschaften-rheinland-pfalz-vielseitigkeit/
URL:https://www.turnierservice-holzer.de/events/kaisersesch-mayen-geisbueschhof-mit-landesmeisterschaften-rheinland-pfalz-vielseitigkeit/
END:VEVENT
END:VCALENDAR