BEGIN:VCALENDAR
VERSION:2.0
PRODID:-//eventon.com NONSGML v1.0//EN
CALSCALE:GREGORIAN
METHOD:PUBLISH
BEGIN:VEVENT
UID:69e6338299566
DTSTAMP:20260420T140906Z
DTSTART:20260912
DTEND:20260913
LOCATION:
SUMMARY:Durmersheim
DESCRIPTION:Durmersheim\nhttps://www.turnierservice-holzer.de/events/durmer
 sheim-9/
URL:https://www.turnierservice-holzer.de/events/durmersheim-9/
END:VEVENT
END:VCALENDAR