BEGIN:VCALENDAR
VERSION:2.0
PRODID:-//eventon.com NONSGML v1.0//EN
CALSCALE:GREGORIAN
METHOD:PUBLISH
BEGIN:VEVENT
UID:69e61f9cbb18c
DTSTAMP:20260420T124412Z
DTSTART:20260905
DTEND:20260906
LOCATION:
SUMMARY:Durmersheim
DESCRIPTION:Durmersheim\nhttps://www.turnierservice-holzer.de/events/durmer
 sheim-8/
URL:https://www.turnierservice-holzer.de/events/durmersheim-8/
END:VEVENT
END:VCALENDAR