BEGIN:VCALENDAR
VERSION:2.0
PRODID:-//eventon.com NONSGML v1.0//EN
CALSCALE:GREGORIAN
METHOD:PUBLISH
BEGIN:VEVENT
UID:69e61f40586f1
DTSTAMP:20260420T124240Z
DTSTART:20260829
DTEND:20260830
LOCATION:
SUMMARY:Rodenbach / Halle - BV
DESCRIPTION:Rodenbach / Halle - BV\nhttps://www.turnierservice-holzer.de/ev
 ents/rodenbach-halle-bv-2/
URL:https://www.turnierservice-holzer.de/events/rodenbach-halle-bv-2/
END:VEVENT
END:VCALENDAR