BEGIN:VCALENDAR
VERSION:2.0
PRODID:-//eventon.com NONSGML v1.0//EN
CALSCALE:GREGORIAN
METHOD:PUBLISH
BEGIN:VEVENT
UID:69e61fb761faa
DTSTAMP:20260420T124439Z
DTSTART:20260904
DTEND:20260905
LOCATION:
SUMMARY:Mayen - Thomashof
DESCRIPTION:Mayen - Thomashof\nhttps://www.turnierservice-holzer.de/events/
 mayen-thomashof-3/
URL:https://www.turnierservice-holzer.de/events/mayen-thomashof-3/
END:VEVENT
END:VCALENDAR