BEGIN:VCALENDAR
VERSION:2.0
PRODID:-//eventon.com NONSGML v1.0//EN
CALSCALE:GREGORIAN
METHOD:PUBLISH
BEGIN:VEVENT
UID:69e63545e4981
DTSTAMP:20260420T141637Z
DTSTART:20260321
DTEND:20260322
LOCATION:
SUMMARY:Mayen - Thomashof / Halle
DESCRIPTION:Mayen - Thomashof / Halle\nhttps://www.turnierservice-holzer.de
 /events/mayen-thomashof-halle-3/
URL:https://www.turnierservice-holzer.de/events/mayen-thomashof-halle-3/
END:VEVENT
END:VCALENDAR