BEGIN:VCALENDAR
VERSION:2.0
PRODID:-//eventon.com NONSGML v1.0//EN
CALSCALE:GREGORIAN
METHOD:PUBLISH
BEGIN:VEVENT
UID:69e634ed4d3a7
DTSTAMP:20260420T141509Z
DTSTART:20260523
DTEND:20260524
LOCATION:
SUMMARY:Bad Dürkheim - Pfingsten
DESCRIPTION:Bad Dürkheim - Pfingsten\nhttps://www.turnierservice-holzer.de
 /events/bad-duerkheim-pfingsten/
URL:https://www.turnierservice-holzer.de/events/bad-duerkheim-pfingsten/
END:VEVENT
END:VCALENDAR