BEGIN:VCALENDAR
VERSION:2.0
PRODID:-//eventon.com NONSGML v1.0//EN
CALSCALE:GREGORIAN
METHOD:PUBLISH
BEGIN:VEVENT
UID:69e6339769379
DTSTAMP:20260420T140927Z
DTSTART:20260502
DTEND:20260503
LOCATION:
SUMMARY:Ingelheim
DESCRIPTION:Ingelheim\nhttps://www.turnierservice-holzer.de/events/ingelhei
 m-10/
URL:https://www.turnierservice-holzer.de/events/ingelheim-10/
END:VEVENT
END:VCALENDAR