BEGIN:VCALENDAR
VERSION:2.0
PRODID:-//eventon.com NONSGML v1.0//EN
CALSCALE:GREGORIAN
METHOD:PUBLISH
BEGIN:VEVENT
UID:69e61f2e4b109
DTSTAMP:20260420T124222Z
DTSTART:20260530
DTEND:20260531
LOCATION:
SUMMARY:Webenheim
DESCRIPTION:Webenheim\nhttps://www.turnierservice-holzer.de/events/webenhei
 m-5/
URL:https://www.turnierservice-holzer.de/events/webenheim-5/
END:VEVENT
END:VCALENDAR