BEGIN:VCALENDAR
VERSION:2.0
PRODID:-//eventon.com NONSGML v1.0//EN
CALSCALE:GREGORIAN
METHOD:PUBLISH
BEGIN:VEVENT
UID:69e61f87f3ca6
DTSTAMP:20260420T124351Z
DTSTART:20261221
DTEND:20261222
LOCATION:
SUMMARY:Büro geschlossen
DESCRIPTION:Büro geschlossen\nhttps://www.turnierservice-holzer.de/events/
 buero-geschlossen-10/
URL:https://www.turnierservice-holzer.de/events/buero-geschlossen-10/
END:VEVENT
END:VCALENDAR