BEGIN:VCALENDAR
VERSION:2.0
PRODID:-//eventon.com NONSGML v1.0//EN
CALSCALE:GREGORIAN
METHOD:PUBLISH
BEGIN:VEVENT
UID:69e634e152c3d
DTSTAMP:20260420T141457Z
DTSTART:20261005
DTEND:20261006
LOCATION:
SUMMARY:Büro geschlossen
DESCRIPTION:Büro geschlossen\nhttps://www.turnierservice-holzer.de/events/
 buero-geschlossen-9/
URL:https://www.turnierservice-holzer.de/events/buero-geschlossen-9/
END:VEVENT
END:VCALENDAR