BEGIN:VCALENDAR
VERSION:2.0
PRODID:-//eventon.com NONSGML v1.0//EN
CALSCALE:GREGORIAN
METHOD:PUBLISH
BEGIN:VEVENT
UID:69e634ae4e725
DTSTAMP:20260420T141406Z
DTSTART:20260815
DTEND:20260816
LOCATION:
SUMMARY:Saarbrücken-Bübingen
DESCRIPTION:Saarbrücken-Bübingen\nhttps://www.turnierservice-holzer.de/ev
 ents/saarbruecken-buebingen-10/
URL:https://www.turnierservice-holzer.de/events/saarbruecken-buebingen-10/
END:VEVENT
END:VCALENDAR