BEGIN:VCALENDAR
VERSION:2.0
PRODID:-//eventon.com NONSGML v1.0//EN
CALSCALE:GREGORIAN
METHOD:PUBLISH
BEGIN:VEVENT
UID:69e61f9895aab
DTSTAMP:20260420T124408Z
DTSTART:20260807
DTEND:20260808
LOCATION:
SUMMARY:Saarbrücken-Bübingen
DESCRIPTION:Saarbrücken-Bübingen\nhttps://www.turnierservice-holzer.de/ev
 ents/saarbruecken-buebingen-9/
URL:https://www.turnierservice-holzer.de/events/saarbruecken-buebingen-9/
END:VEVENT
END:VCALENDAR