BEGIN:VCALENDAR
VERSION:2.0
PRODID:-//eventon.com NONSGML v1.0//EN
CALSCALE:GREGORIAN
METHOD:PUBLISH
BEGIN:VEVENT
UID:69e634f050e77
DTSTAMP:20260420T141512Z
DTSTART:20260801
DTEND:20260802
LOCATION:
SUMMARY:Waghäusel-Wiesental
DESCRIPTION:Waghäusel-Wiesental\nhttps://www.turnierservice-holzer.de/even
 ts/waghaeusel-wiesental-12/
URL:https://www.turnierservice-holzer.de/events/waghaeusel-wiesental-12/
END:VEVENT
END:VCALENDAR