BEGIN:VCALENDAR
VERSION:2.0
PRODID:-//eventon.com NONSGML v1.0//EN
CALSCALE:GREGORIAN
METHOD:PUBLISH
BEGIN:VEVENT
UID:69e6335756099
DTSTAMP:20260420T140823Z
DTSTART:20260711
DTEND:20260712
LOCATION:
SUMMARY:Standenbühl
DESCRIPTION:Standenbühl\nhttps://www.turnierservice-holzer.de/events/stand
 enbuehl-8/
URL:https://www.turnierservice-holzer.de/events/standenbuehl-8/
END:VEVENT
END:VCALENDAR