BEGIN:VCALENDAR
VERSION:2.0
PRODID:-//eventon.com NONSGML v1.0//EN
CALSCALE:GREGORIAN
METHOD:PUBLISH
BEGIN:VEVENT
UID:69e61f6981955
DTSTAMP:20260420T124321Z
DTSTART:20260626
DTEND:20260627
LOCATION:
SUMMARY:Landesmeisterschaften Rheinland-Pfalz - Dressur
DESCRIPTION:Landesmeisterschaften Rheinland-Pfalz - Dressur\nhttps://www.tu
 rnierservice-holzer.de/events/landesmeisterschaften-rheinland-pfalz-dressur
 /
URL:https://www.turnierservice-holzer.de/events/landesmeisterschaften-rheinland-pfalz-dressur/
END:VEVENT
END:VCALENDAR