BEGIN:VCALENDAR
VERSION:2.0
PRODID:-//eventon.com NONSGML v1.0//EN
CALSCALE:GREGORIAN
METHOD:PUBLISH
BEGIN:VEVENT
UID:69e633d9d5d97
DTSTAMP:20260420T141033Z
DTSTART:20260515
DTEND:20260516
LOCATION:
SUMMARY:Eppelheim
DESCRIPTION:Eppelheim\nhttps://www.turnierservice-holzer.de/events/eppelhei
 m-11/
URL:https://www.turnierservice-holzer.de/events/eppelheim-11/
END:VEVENT
END:VCALENDAR