BEGIN:VCALENDAR
VERSION:2.0
PRODID:-//eventon.com NONSGML v1.0//EN
CALSCALE:GREGORIAN
METHOD:PUBLISH
BEGIN:VEVENT
UID:69e61fbaad42e
DTSTAMP:20260420T124442Z
DTSTART:20260404
DTEND:20260405
LOCATION:
SUMMARY:Waghäusel-Wiesental / Halle - Ostern
DESCRIPTION:Waghäusel-Wiesental / Halle - Ostern\nhttps://www.turnierservi
 ce-holzer.de/events/waghaeusel-wiesental-halle-4/
URL:https://www.turnierservice-holzer.de/events/waghaeusel-wiesental-halle-4/
END:VEVENT
END:VCALENDAR