BEGIN:VCALENDAR
VERSION:2.0
PRODID:-//eventon.com NONSGML v1.0//EN
CALSCALE:GREGORIAN
METHOD:PUBLISH
BEGIN:VEVENT
UID:69e6351be3955
DTSTAMP:20260420T141555Z
DTSTART:20251222
DTEND:20251223
LOCATION:
SUMMARY:Büro geschlossen
DESCRIPTION:Büro geschlossen\nhttps://www.turnierservice-holzer.de/events/
 buero-geschlossen-8/
URL:https://www.turnierservice-holzer.de/events/buero-geschlossen-8/
END:VEVENT
END:VCALENDAR