BEGIN:VCALENDAR
VERSION:2.0
PRODID:-//eventon.com NONSGML v1.0//EN
CALSCALE:GREGORIAN
METHOD:PUBLISH
BEGIN:VEVENT
UID:69e61ee30598f
DTSTAMP:20260420T124107Z
DTSTART:20260716
DTEND:20260717
LOCATION:
SUMMARY:Landesmeisterschaften Rheinland-Pfalz - Springen - Andernach
DESCRIPTION:Landesmeisterschaften Rheinland-Pfalz - Springen - Andernach\nh
 ttps://www.turnierservice-holzer.de/events/landesmeisterschaften-rheinland-
 pfalz-dressur-und-springen/
URL:https://www.turnierservice-holzer.de/events/landesmeisterschaften-rheinland-pfalz-dressur-und-springen/
END:VEVENT
END:VCALENDAR