BEGIN:VCALENDAR
VERSION:2.0
PRODID:-//eventon.com NONSGML v1.0//EN
CALSCALE:GREGORIAN
METHOD:PUBLISH
BEGIN:VEVENT
UID:69ea613c5da2d
DTSTAMP:20260423T181316Z
DTSTART:20220416
DTEND:20220417
LOCATION:
SUMMARY:Waghäusel-Wiesental / Halle
DESCRIPTION:Waghäusel-Wiesental / Halle\nhttps://www.turnierservice-holzer
 .de/events/waghaeusel-wiesental-halle/
URL:https://www.turnierservice-holzer.de/events/waghaeusel-wiesental-halle/
END:VEVENT
END:VCALENDAR